BEGIN:VCALENDAR
VERSION:2.0
PRODID:-//Actual Training - ECPv6.3.1//NONSGML v1.0//EN
CALSCALE:GREGORIAN
METHOD:PUBLISH
X-WR-CALNAME:Actual Training
X-ORIGINAL-URL:https://atraining.ro
X-WR-CALDESC:Events for Actual Training
REFRESH-INTERVAL;VALUE=DURATION:PT1H
X-Robots-Tag:noindex
X-PUBLISHED-TTL:PT1H
BEGIN:VTIMEZONE
TZID:Europe/Bucharest
BEGIN:DAYLIGHT
TZOFFSETFROM:+0200
TZOFFSETTO:+0300
TZNAME:EEST
DTSTART:20260329T010000
END:DAYLIGHT
BEGIN:STANDARD
TZOFFSETFROM:+0300
TZOFFSETTO:+0200
TZNAME:EET
DTSTART:20261025T010000
END:STANDARD
END:VTIMEZONE
BEGIN:VEVENT
DTSTART;VALUE=DATE:20260113
DTEND;VALUE=DATE:20260116
DTSTAMP:20260421T075212
CREATED:20251224T145852Z
LAST-MODIFIED:20251224T145852Z
UID:2908-1768262400-1768521599@atraining.ro
SUMMARY:Cursuri On-Line
DESCRIPTION:DEZVOLTAREA ABILITATILOR DE COMUNICARE SI LUCRUL IN ECHIPA. MANAGEMENTUL CONFLICTELOR\nCONTABILITATEA INSTITUȚIILOR PUBLICE: FOREXEBUG\, REGULI PENTRU DOCUMENTELE JUSTIFICATIVE ȘI PREGĂTIREA PENTRU ALOP 2026 . INCHIDEREA EXERCITIULUI FINANCIAR 2025.\nREGES – GHID PRACTIC PENTRU PROFESIONISTII HR – De la Revisal la Reges\nSTANDADRE DE CONTROL INTERN MANAGERIAL\n\n  \n  \nPentru oferta detaliata nu ezitati sa ne contactati. \n\n 
URL:https://atraining.ro/event/cursuri-on-line/
LOCATION:ON LINE
CATEGORIES:Bullyng,COMUNICAREA IN ADMINISTRATIA PUBLICA,Control financiar preventiv- CFP,Inspector / Referent Resurse Umane,Managementul performantei in institutiile publice,Managementul proiectelor
ATTACH;FMTTYPE=image/webp:https://atraining.ro/wp-content/uploads/2021/08/ONLINE.webp
ORGANIZER;CN="ACTUAL TRAINING":MAILTO:actual@atraining.ro
END:VEVENT
END:VCALENDAR