BEGIN:VCALENDAR
VERSION:2.0
PRODID:-//Actual Training - ECPv6.3.1//NONSGML v1.0//EN
CALSCALE:GREGORIAN
METHOD:PUBLISH
X-ORIGINAL-URL:https://atraining.ro
X-WR-CALDESC:Events for Actual Training
REFRESH-INTERVAL;VALUE=DURATION:PT1H
X-Robots-Tag:noindex
X-PUBLISHED-TTL:PT1H
BEGIN:VTIMEZONE
TZID:Europe/Bucharest
BEGIN:DAYLIGHT
TZOFFSETFROM:+0200
TZOFFSETTO:+0300
TZNAME:EEST
DTSTART:20260329T010000
END:DAYLIGHT
BEGIN:STANDARD
TZOFFSETFROM:+0300
TZOFFSETTO:+0200
TZNAME:EET
DTSTART:20261025T010000
END:STANDARD
END:VTIMEZONE
BEGIN:VEVENT
DTSTART;VALUE=DATE:20260227
DTEND;VALUE=DATE:20260302
DTSTAMP:20260421T172413
CREATED:20260212T110003Z
LAST-MODIFIED:20260212T133608Z
UID:2953-1772150400-1772409599@atraining.ro
SUMMARY:PERFECTIONARE Sinaia 27.02-1.03.2026
DESCRIPTION:CURS SINAIA \n27 Februarie-1 Martie  2026\n\nACHIZITII PUBLICE -Noutati legislative\nCONTABILITATEA INSTITUȚIILOR PUBLICE: FOREXEBUG\, REGULI PENTRU DOCUMENTELE JUSTIFICATIVE ȘI PREGĂTIREA PENTRU ALOP 2026\nREGES – GHID PRACTIC PENTRU PROFESIONISTII HR\nDEZVOLTAREA ABILITATILOR DE COMUNICARE SI LUCRUL IN ECHIPA. MANAGEMENTUL CONFLICTELOR
URL:https://atraining.ro/event/perfectionare-sinaia-27-02-1-03-2026/
LOCATION:Hotel Palace \, Sinaia\, Sinaia\, România
CATEGORIES:Achizitii,Achizitiile publice,ALOP,Comunicare,CONTABILITATEA INSTITUTIILOR PUBLICE,Factura electronica,FOREXEBUG,REGES,Resurse umane si salarizare,RO eFactura
ATTACH;FMTTYPE=image/jpeg:https://atraining.ro/wp-content/uploads/2021/12/WhatsApp-Image-2021-07-22-at-8.53.41-AM.jpeg
ORGANIZER;CN="ACTUAL TRAINING":MAILTO:actual@atraining.ro
END:VEVENT
BEGIN:VEVENT
DTSTART;VALUE=DATE:20260312
DTEND;VALUE=DATE:20260313
DTSTAMP:20260421T172413
CREATED:20260310T111125Z
LAST-MODIFIED:20260310T111125Z
UID:2970-1773273600-1773359999@atraining.ro
SUMMARY:REGLEMENTARI CONTABILE
DESCRIPTION:
URL:https://atraining.ro/event/reglementari-contabile/
LOCATION:ON LINE
CATEGORIES:ALOP,CONTABILITATEA INSTITUTIILOR PUBLICE
ATTACH;FMTTYPE=image/avif:https://atraining.ro/wp-content/uploads/2025/11/alop.avif
ORGANIZER;CN="ACTUAL TRAINING":MAILTO:actual@atraining.ro
END:VEVENT
END:VCALENDAR