BEGIN:VCALENDAR
VERSION:2.0
PRODID:-//Actual Training - ECPv6.3.1//NONSGML v1.0//EN
CALSCALE:GREGORIAN
METHOD:PUBLISH
X-ORIGINAL-URL:https://atraining.ro
X-WR-CALDESC:Events for Actual Training
REFRESH-INTERVAL;VALUE=DURATION:PT1H
X-Robots-Tag:noindex
X-PUBLISHED-TTL:PT1H
BEGIN:VTIMEZONE
TZID:Europe/Bucharest
BEGIN:DAYLIGHT
TZOFFSETFROM:+0200
TZOFFSETTO:+0300
TZNAME:EEST
DTSTART:20260329T010000
END:DAYLIGHT
BEGIN:STANDARD
TZOFFSETFROM:+0300
TZOFFSETTO:+0200
TZNAME:EET
DTSTART:20261025T010000
END:STANDARD
END:VTIMEZONE
BEGIN:VEVENT
DTSTART;VALUE=DATE:20260312
DTEND;VALUE=DATE:20260417
DTSTAMP:20260420T055651
CREATED:20260310T110910Z
LAST-MODIFIED:20260310T110938Z
UID:2966-1773273600-1776383999@atraining.ro
SUMMARY:CONSULTANT BUGETAR- Curs online Autorizat de Ministerele Muncii și Educației  COD C.O.R.  241208
DESCRIPTION:
URL:https://atraining.ro/event/consultant-bugetar-curs-online-autorizat-de-ministerele-muncii-si-educatiei-cod-c-o-r-241208/
CATEGORIES:Consultant Bugetar,CONTABILITATEA INSTITUTIILOR PUBLICE,CURSURI ANC
ATTACH;FMTTYPE=image/jpeg:https://atraining.ro/wp-content/uploads/2021/03/control.jpg
END:VEVENT
END:VCALENDAR