BEGIN:VCALENDAR
VERSION:2.0
PRODID:-//Actual Training - ECPv6.3.1//NONSGML v1.0//EN
CALSCALE:GREGORIAN
METHOD:PUBLISH
X-ORIGINAL-URL:https://atraining.ro
X-WR-CALDESC:Events for Actual Training
REFRESH-INTERVAL;VALUE=DURATION:PT1H
X-Robots-Tag:noindex
X-PUBLISHED-TTL:PT1H
BEGIN:VTIMEZONE
TZID:Europe/Bucharest
BEGIN:DAYLIGHT
TZOFFSETFROM:+0200
TZOFFSETTO:+0300
TZNAME:EEST
DTSTART:20260329T010000
END:DAYLIGHT
BEGIN:STANDARD
TZOFFSETFROM:+0300
TZOFFSETTO:+0200
TZNAME:EET
DTSTART:20261025T010000
END:STANDARD
END:VTIMEZONE
BEGIN:VEVENT
DTSTART;VALUE=DATE:20260201
DTEND;VALUE=DATE:20260302
DTSTAMP:20260423T165227
CREATED:20260202T105344Z
LAST-MODIFIED:20260202T105344Z
UID:2941-1769904000-1772409599@atraining.ro
SUMMARY:Cursuri ON-LINE
DESCRIPTION:ello \n\nCURSURI ONLINE FEBRUARIE 2026\nCONTABILITATEA INSTITUTIILOR PUBLICE \nREGES – SESIUNE INTREBARI SI RASPUNSURI \nACHIZITII PUBLICE \nS.C.I.M. \nCONTROL FINANCIAR PREVENTIV \nMANAGEMENTUL COMUNICARII \n\n 
URL:https://atraining.ro/event/cursuri-on-line-4/
LOCATION:ON LINE
CATEGORIES:Achizitii,Achizitiile publice,Audit,CONTABILITATEA INSTITUTIILOR PUBLICE,Inspector / Referent Resurse Umane,Institutii publice,Resurse umane si salarizare
ATTACH;FMTTYPE=image/webp:https://atraining.ro/wp-content/uploads/2021/08/ONLINE.webp
ORGANIZER;CN="ACTUAL TRAINING":MAILTO:actual@atraining.ro
END:VEVENT
BEGIN:VEVENT
DTSTART;VALUE=DATE:20260225
DTEND;VALUE=DATE:20260226
DTSTAMP:20260423T165227
CREATED:20260212T134041Z
LAST-MODIFIED:20260212T134125Z
UID:2957-1771977600-1772063999@atraining.ro
SUMMARY:ATELIER PRACTIC DE ACHIZIȚII PUBLICE
DESCRIPTION:25 februarie 2026 \nParticipă la un workshop intensiv dedicat specialiștilor implicați în procesul de achiziții publice și descoperă soluții practice la cele mai frecvente provocări din domeniu! \nCe vei învăța în cadrul atelierului?\nÎntr-o manieră aplicată și interactivă\, vei putea adresa direct întrebări și vei primi răspunsuri argumentate\, pe teme precum: \n\nAchizițiile în contextul noului ALOP\nRedactarea corectă și completă a Notei de Fundamentare\nÎntocmirea Referatului de Necesitate\nElaborarea PAPP-ului (Programul Anual al Achizițiilor Publice)\nClarificări și exemple utile din practică\nSesiune extinsă de Q&A – răspunsuri personalizate pentru provocările tale\n\nCui se adresează?\nProfesioniștilor implicați în achiziții publice din instituții publice sau proiecte cu finanțare nerambursabilă\, precum și oricui dorește să își dezvolte competențele practice în acest domeniu. \nTrainer\nElena Vasile – Expert Consultant în Achiziții Publice\nCu o vastă experiență în coordonarea și implementarea proceselor de achiziții\, Elena oferă o abordare clară\, practică și orientată spre soluții. \n  \n  \n\n 
URL:https://atraining.ro/event/atelier-practic-de-achizitii-publice/
LOCATION:ON LINE
CATEGORIES:Achizitii,Achizitiile publice
ATTACH;FMTTYPE=image/jpeg:https://atraining.ro/wp-content/uploads/2023/05/Achizitii-Publice-2.jpg
ORGANIZER;CN="ACTUAL TRAINING":MAILTO:actual@atraining.ro
END:VEVENT
BEGIN:VEVENT
DTSTART;VALUE=DATE:20260227
DTEND;VALUE=DATE:20260302
DTSTAMP:20260423T165227
CREATED:20260212T110003Z
LAST-MODIFIED:20260212T133608Z
UID:2953-1772150400-1772409599@atraining.ro
SUMMARY:PERFECTIONARE Sinaia 27.02-1.03.2026
DESCRIPTION:CURS SINAIA \n27 Februarie-1 Martie  2026\n\nACHIZITII PUBLICE -Noutati legislative\nCONTABILITATEA INSTITUȚIILOR PUBLICE: FOREXEBUG\, REGULI PENTRU DOCUMENTELE JUSTIFICATIVE ȘI PREGĂTIREA PENTRU ALOP 2026\nREGES – GHID PRACTIC PENTRU PROFESIONISTII HR\nDEZVOLTAREA ABILITATILOR DE COMUNICARE SI LUCRUL IN ECHIPA. MANAGEMENTUL CONFLICTELOR
URL:https://atraining.ro/event/perfectionare-sinaia-27-02-1-03-2026/
LOCATION:Hotel Palace \, Sinaia\, Sinaia\, România
CATEGORIES:Achizitii,Achizitiile publice,ALOP,Comunicare,CONTABILITATEA INSTITUTIILOR PUBLICE,Factura electronica,FOREXEBUG,REGES,Resurse umane si salarizare,RO eFactura
ATTACH;FMTTYPE=image/jpeg:https://atraining.ro/wp-content/uploads/2021/12/WhatsApp-Image-2021-07-22-at-8.53.41-AM.jpeg
ORGANIZER;CN="ACTUAL TRAINING":MAILTO:actual@atraining.ro
END:VEVENT
BEGIN:VEVENT
DTSTART;VALUE=DATE:20260312
DTEND;VALUE=DATE:20260313
DTSTAMP:20260423T165227
CREATED:20260310T111125Z
LAST-MODIFIED:20260310T111125Z
UID:2970-1773273600-1773359999@atraining.ro
SUMMARY:REGLEMENTARI CONTABILE
DESCRIPTION:
URL:https://atraining.ro/event/reglementari-contabile/
LOCATION:ON LINE
CATEGORIES:ALOP,CONTABILITATEA INSTITUTIILOR PUBLICE
ATTACH;FMTTYPE=image/avif:https://atraining.ro/wp-content/uploads/2025/11/alop.avif
ORGANIZER;CN="ACTUAL TRAINING":MAILTO:actual@atraining.ro
END:VEVENT
BEGIN:VEVENT
DTSTART;VALUE=DATE:20260312
DTEND;VALUE=DATE:20260417
DTSTAMP:20260423T165227
CREATED:20260310T110910Z
LAST-MODIFIED:20260310T110938Z
UID:2966-1773273600-1776383999@atraining.ro
SUMMARY:CONSULTANT BUGETAR- Curs online Autorizat de Ministerele Muncii și Educației  COD C.O.R.  241208
DESCRIPTION:
URL:https://atraining.ro/event/consultant-bugetar-curs-online-autorizat-de-ministerele-muncii-si-educatiei-cod-c-o-r-241208/
CATEGORIES:Consultant Bugetar,CONTABILITATEA INSTITUTIILOR PUBLICE,CURSURI ANC
ATTACH;FMTTYPE=image/jpeg:https://atraining.ro/wp-content/uploads/2021/03/control.jpg
END:VEVENT
BEGIN:VEVENT
DTSTART;VALUE=DATE:20260319
DTEND;VALUE=DATE:20260320
DTSTAMP:20260423T165227
CREATED:20260310T111221Z
LAST-MODIFIED:20260310T111225Z
UID:2973-1773878400-1773964799@atraining.ro
SUMMARY:ATELIER PRACTIC ACHIZITII PUBLICE
DESCRIPTION:
URL:https://atraining.ro/event/atelier-practic-achizitii-publice-2/
LOCATION:ON LINE
CATEGORIES:Achizitii,Achizitiile publice
ATTACH;FMTTYPE=image/jpeg:https://atraining.ro/wp-content/uploads/2023/05/Achizitii-Publice-2.jpg
ORGANIZER;CN="ACTUAL TRAINING":MAILTO:actual@atraining.ro
END:VEVENT
BEGIN:VEVENT
DTSTART;VALUE=DATE:20260320
DTEND;VALUE=DATE:20260321
DTSTAMP:20260423T165227
CREATED:20260310T111345Z
LAST-MODIFIED:20260310T111349Z
UID:2976-1773964800-1774051199@atraining.ro
SUMMARY:ATELIER PRACTIC RESURSE UMANE
DESCRIPTION:
URL:https://atraining.ro/event/atelier-practic-resurse-umane/
LOCATION:ON LINE
CATEGORIES:REGES,Resurse umane si salarizare
ATTACH;FMTTYPE=image/jpeg:https://atraining.ro/wp-content/uploads/2025/05/reges-1.jpg
ORGANIZER;CN="ACTUAL TRAINING":MAILTO:actual@atraining.ro
END:VEVENT
BEGIN:VEVENT
DTSTART;VALUE=DATE:20260326
DTEND;VALUE=DATE:20260327
DTSTAMP:20260423T165227
CREATED:20260310T111514Z
LAST-MODIFIED:20260310T111517Z
UID:2979-1774483200-1774569599@atraining.ro
SUMMARY:CONTROL FINANCIAR PREVENTIV
DESCRIPTION:
URL:https://atraining.ro/event/control-financiar-preventiv-4/
LOCATION:ON LINE
CATEGORIES:CFP si Fiscalitate,Control financiar preventiv- CFP
ATTACH;FMTTYPE=image/png:https://atraining.ro/wp-content/uploads/2021/03/scim.png
ORGANIZER;CN="ACTUAL TRAINING":MAILTO:actual@atraining.ro
END:VEVENT
BEGIN:VEVENT
DTSTART;VALUE=DATE:20260411
DTEND;VALUE=DATE:20260512
DTSTAMP:20260423T165227
CREATED:20260310T111902Z
LAST-MODIFIED:20260310T112256Z
UID:2982-1775865600-1778543999@atraining.ro
SUMMARY:FORMATOR (TRAINER) cod C.O.R. 242401
DESCRIPTION:CURS FORMATOR (TRAINER)-Curs online Autorizat de Ministerele Muncii și Educației. C.O.R. 242401- Perioada: 23 aprilie- 11 mai 2026
URL:https://atraining.ro/event/formator-trainer-cod-c-o-r-242401/
CATEGORIES:CURSURI ANC
ATTACH;FMTTYPE=image/jpeg:https://atraining.ro/wp-content/uploads/2026/03/Trainer.jpg
END:VEVENT
END:VCALENDAR